BEGIN:VCALENDAR
VERSION:2.0
PRODID:-//StreamRadar//Match Calendar//EN
CALSCALE:GREGORIAN
METHOD:PUBLISH
X-WR-CALNAME:Charlton Athletic U21 vs Millwall U21
X-WR-TIMEZONE:America/New_York
BEGIN:VEVENT
UID:match-5557404@streamradar.soccer
SUMMARY:Charlton Athletic U21 vs Millwall U21
DTSTAMP:20260423T141418Z
DTSTART;TZID=America/New_York:20260227T083000
DTEND;TZID=America/New_York:20260227T103000
LOCATION:Princes Park (Dartford\, Kent)
DESCRIPTION:Onde ver Charlton Athletic Sub-21 vs Millwall Sub-21 em Inglate
 rra - Professional Development League. Transmissão ao vivo e programação
  de TV.\nhttps://streamradar.soccer/pt/match/5557404/charlton-athletic-u21-
 vs-millwall-u21/
URL;VALUE=URI:https://streamradar.soccer/pt/match/5557404/charlton-athletic
 -u21-vs-millwall-u21/
STATUS:CONFIRMED
END:VEVENT
END:VCALENDAR
