BEGIN:VCALENDAR
VERSION:2.0
PRODID:-//StreamRadar//Match Calendar//EN
CALSCALE:GREGORIAN
METHOD:PUBLISH
X-WR-CALNAME:Al Ittihad vs Al Wahda
X-WR-TIMEZONE:America/New_York
BEGIN:VEVENT
UID:match-5557233@streamradar.soccer
SUMMARY:Al Ittihad vs Al Wahda
DTSTAMP:20260423T024838Z
DTSTART;TZID=America/New_York:20260310T012400
DTEND;TZID=America/New_York:20260310T032400
LOCATION:King Abdullah Sports City
DESCRIPTION:Onde ver Al Ittihad vs Al Wahda em AFC Champions League Elite. 
 Transmissão ao vivo e programação de TV.\nhttps://streamradar.soccer/pt/
 match/5557233/al-ittihad-vs-al-wahda/
URL;VALUE=URI:https://streamradar.soccer/pt/match/5557233/al-ittihad-vs-al-
 wahda/
STATUS:CONFIRMED
END:VEVENT
END:VCALENDAR
