BEGIN:VCALENDAR
VERSION:2.0
PRODID:-//StreamRadar//Match Calendar//EN
CALSCALE:GREGORIAN
METHOD:PUBLISH
X-WR-CALNAME:Charleston vs Florida Badgers
X-WR-TIMEZONE:America/New_York
BEGIN:VEVENT
UID:match-5555711@streamradar.soccer
SUMMARY:Charleston vs Florida Badgers
DTSTAMP:20260422T194456Z
DTSTART;TZID=America/New_York:20260318T183000
DTEND;TZID=America/New_York:20260318T203000
LOCATION:Patriots Point Soccer Complex
DESCRIPTION:Onde ver Charleston vs Florida Badgers em US Open Cup. Transmis
 são ao vivo e programação de TV.\nhttps://streamradar.soccer/pt/match/55
 55711/charleston-vs-florida-badgers/
URL;VALUE=URI:https://streamradar.soccer/pt/match/5555711/charleston-vs-flo
 rida-badgers/
STATUS:CONFIRMED
END:VEVENT
END:VCALENDAR
