BEGIN:VCALENDAR
VERSION:2.0
PRODID:-//StreamRadar//Match Calendar//EN
CALSCALE:GREGORIAN
METHOD:PUBLISH
X-WR-CALNAME:Åtvidaberg vs Olympic
X-WR-TIMEZONE:America/New_York
BEGIN:VEVENT
UID:match-5534742@streamradar.soccer
SUMMARY:Åtvidaberg vs Olympic
DTSTAMP:20260421T122528Z
DTSTART;TZID=America/New_York:20260912T100000
DTEND;TZID=America/New_York:20260912T120000
LOCATION:Kopparvallen
DESCRIPTION:Onde ver Åtvidaberg vs Olympic em Suécia - Ettan. Transmissã
 o ao vivo e programação de TV.\nhttps://streamradar.soccer/pt/match/55347
 42/atvidaberg-vs-olympic/
URL;VALUE=URI:https://streamradar.soccer/pt/match/5534742/atvidaberg-vs-oly
 mpic/
STATUS:CONFIRMED
END:VEVENT
END:VCALENDAR
