BEGIN:VCALENDAR
VERSION:2.0
PRODID:-//StreamRadar//Match Calendar//EN
CALSCALE:GREGORIAN
METHOD:PUBLISH
X-WR-CALNAME:Central Córdoba vs Argentino Rosario
X-WR-TIMEZONE:America/New_York
BEGIN:VEVENT
UID:match-5534225@streamradar.soccer
SUMMARY:Central Córdoba vs Argentino Rosario
DTSTAMP:20260421T182704Z
DTSTART;TZID=America/New_York:20260912T160000
DTEND;TZID=America/New_York:20260912T180000
DESCRIPTION:Onde ver Central Córdoba vs Argentino Rosario em Argentina - P
 rimera C Metropolitana. Transmissão ao vivo e programação de TV.\nhttps:
 //streamradar.soccer/pt/match/5534225/central-cordoba-vs-argentino-rosario/
URL;VALUE=URI:https://streamradar.soccer/pt/match/5534225/central-cordoba-v
 s-argentino-rosario/
STATUS:CONFIRMED
END:VEVENT
END:VCALENDAR
