BEGIN:VCALENDAR
VERSION:2.0
PRODID:-//StreamRadar//Match Calendar//EN
CALSCALE:GREGORIAN
METHOD:PUBLISH
X-WR-CALNAME:Mercedes vs Estrella del Sur
X-WR-TIMEZONE:America/New_York
BEGIN:VEVENT
UID:match-5534149@streamradar.soccer
SUMMARY:Mercedes vs Estrella del Sur
DTSTAMP:20260421T224504Z
DTSTART;TZID=America/New_York:20260801T160000
DTEND;TZID=America/New_York:20260801T180000
DESCRIPTION:Onde ver Mercedes vs Estrella Del Sur em Argentina - Primera C 
 Metropolitana. Transmissão ao vivo e programação de TV.\nhttps://streamr
 adar.soccer/pt/match/5534149/mercedes-vs-estrella-del-sur/
URL;VALUE=URI:https://streamradar.soccer/pt/match/5534149/mercedes-vs-estre
 lla-del-sur/
STATUS:CONFIRMED
END:VEVENT
END:VCALENDAR
