BEGIN:VCALENDAR
VERSION:2.0
PRODID:-//StreamRadar//Match Calendar//EN
CALSCALE:GREGORIAN
METHOD:PUBLISH
X-WR-CALNAME:Deportivo Paraguayo vs Argentino Rosario
X-WR-TIMEZONE:America/New_York
BEGIN:VEVENT
UID:match-5534145@streamradar.soccer
SUMMARY:Deportivo Paraguayo vs Argentino Rosario
DTSTAMP:20260421T184037Z
DTSTART;TZID=America/New_York:20260801T160000
DTEND;TZID=America/New_York:20260801T180000
DESCRIPTION:Onde ver Deportivo Paraguayo vs Argentino Rosario em Argentina 
 - Primera C Metropolitana. Transmissão ao vivo e programação de TV.\nhtt
 ps://streamradar.soccer/pt/match/5534145/deportivo-paraguayo-vs-argentino-r
 osario/
URL;VALUE=URI:https://streamradar.soccer/pt/match/5534145/deportivo-paragua
 yo-vs-argentino-rosario/
STATUS:CONFIRMED
END:VEVENT
END:VCALENDAR
