BEGIN:VCALENDAR
VERSION:2.0
PRODID:-//StreamRadar//Match Calendar//EN
CALSCALE:GREGORIAN
METHOD:PUBLISH
X-WR-CALNAME:Claypole vs Luján
X-WR-TIMEZONE:America/New_York
BEGIN:VEVENT
UID:match-5534140@streamradar.soccer
SUMMARY:Claypole vs Luján
DTSTAMP:20260422T014029Z
DTSTART;TZID=America/New_York:20260801T160000
DTEND;TZID=America/New_York:20260801T180000
DESCRIPTION:Onde ver Claypole vs Luján em Argentina - Primera C Metropolit
 ana. Transmissão ao vivo e programação de TV.\nhttps://streamradar.socce
 r/pt/match/5534140/claypole-vs-lujan/
URL;VALUE=URI:https://streamradar.soccer/pt/match/5534140/claypole-vs-lujan
 /
STATUS:CONFIRMED
END:VEVENT
END:VCALENDAR
