BEGIN:VCALENDAR
VERSION:2.0
PRODID:-//StreamRadar//Match Calendar//EN
CALSCALE:GREGORIAN
METHOD:PUBLISH
X-WR-CALNAME:Defensores de Cambaceres vs General Lamadrid
X-WR-TIMEZONE:America/New_York
BEGIN:VEVENT
UID:match-5534114@streamradar.soccer
SUMMARY:Defensores de Cambaceres vs General Lamadrid
DTSTAMP:20260421T212127Z
DTSTART;TZID=America/New_York:20260718T160000
DTEND;TZID=America/New_York:20260718T180000
DESCRIPTION:Onde ver Defensores De Cambaceres vs General Lamadrid em Argent
 ina - Primera C Metropolitana. Transmissão ao vivo e programação de TV.\
 nhttps://streamradar.soccer/pt/match/5534114/defensores-de-cambaceres-vs-ge
 neral-lamadrid/
URL;VALUE=URI:https://streamradar.soccer/pt/match/5534114/defensores-de-cam
 baceres-vs-general-lamadrid/
STATUS:CONFIRMED
END:VEVENT
END:VCALENDAR
