BEGIN:VCALENDAR
VERSION:2.0
PRODID:-//StreamRadar//Match Calendar//EN
CALSCALE:GREGORIAN
METHOD:PUBLISH
X-WR-CALNAME:Gwangju vs Jeju United
X-WR-TIMEZONE:America/New_York
BEGIN:VEVENT
UID:match-5533811@streamradar.soccer
SUMMARY:Gwangju vs Jeju United
DTSTAMP:20260421T213614Z
DTSTART;TZID=America/New_York:20260909T063000
DTEND;TZID=America/New_York:20260909T083000
LOCATION:Gwangju Football Stadium
DESCRIPTION:Onde ver Gwangju vs Jeju United em Coreia do Sul - K League 1. 
 Transmissão ao vivo e programação de TV.\nhttps://streamradar.soccer/pt/
 match/5533811/gwangju-vs-jeju-united/
URL;VALUE=URI:https://streamradar.soccer/pt/match/5533811/gwangju-vs-jeju-u
 nited/
STATUS:CONFIRMED
END:VEVENT
END:VCALENDAR
