BEGIN:VCALENDAR
VERSION:2.0
PRODID:-//StreamRadar//Match Calendar//EN
CALSCALE:GREGORIAN
METHOD:PUBLISH
X-WR-CALNAME:Racing Louisville FC vs NJ/NY Gotham FC
X-WR-TIMEZONE:America/New_York
BEGIN:VEVENT
UID:match-5533580@streamradar.soccer
SUMMARY:Racing Louisville FC vs NJ/NY Gotham FC
DTSTAMP:20260421T120604Z
DTSTART;TZID=America/New_York:20260911T183000
DTEND;TZID=America/New_York:20260911T203000
LOCATION:Lynn Family Stadium
DESCRIPTION:Onde ver Racing Louisville FC vs NJ/NY Gotham FC em NWSL. Trans
 missão ao vivo e programação de TV.\nhttps://streamradar.soccer/pt/match
 /5533580/racing-louisville-fc-vs-nj-ny-gotham-fc/
URL;VALUE=URI:https://streamradar.soccer/pt/match/5533580/racing-louisville
 -fc-vs-nj-ny-gotham-fc/
STATUS:CONFIRMED
END:VEVENT
END:VCALENDAR
