BEGIN:VCALENDAR
VERSION:2.0
PRODID:-//StreamRadar//Match Calendar//EN
CALSCALE:GREGORIAN
METHOD:PUBLISH
X-WR-CALNAME:VÃ¤rnamo vs Ã–ster
X-WR-TIMEZONE:America/New_York
BEGIN:VEVENT
UID:match-5531906@streamradar.soccer
SUMMARY:VÃ¤rnamo vs Ã–ster
DTSTAMP:20260421T144342Z
DTSTART;TZID=America/New_York:20260913T090000
DTEND;TZID=America/New_York:20260913T110000
LOCATION:Finnvedsvallen
DESCRIPTION:Onde ver VÃ¤rnamo vs Ã–ster em SuÃ©cia - Superettan. TransmissÃ
 £o ao vivo e programaÃ§Ã£o de TV.\nhttps://streamradar.soccer/pt/match/5531
 906/varnamo-vs-oster/
URL;VALUE=URI:https://streamradar.soccer/pt/match/5531906/varnamo-vs-oster/
STATUS:CONFIRMED
END:VEVENT
END:VCALENDAR
