BEGIN:VCALENDAR
VERSION:2.0
PRODID:-//StreamRadar//Match Calendar//EN
CALSCALE:GREGORIAN
METHOD:PUBLISH
X-WR-CALNAME:Brage vs Sandviken
X-WR-TIMEZONE:America/New_York
BEGIN:VEVENT
UID:match-5531899@streamradar.soccer
SUMMARY:Brage vs Sandviken
DTSTAMP:20260422T005807Z
DTSTART;TZID=America/New_York:20260913T090000
DTEND;TZID=America/New_York:20260913T110000
LOCATION:Domnarvsvallen
DESCRIPTION:Onde ver Brage vs Sandviken em SuÃ©cia - Superettan. TransmissÃ
 £o ao vivo e programaÃ§Ã£o de TV.\nhttps://streamradar.soccer/pt/match/5531
 899/brage-vs-sandviken/
URL;VALUE=URI:https://streamradar.soccer/pt/match/5531899/brage-vs-sandvike
 n/
STATUS:CONFIRMED
END:VEVENT
END:VCALENDAR
