BEGIN:VCALENDAR
VERSION:2.0
PRODID:-//StreamRadar//Match Calendar//EN
CALSCALE:GREGORIAN
METHOD:PUBLISH
X-WR-CALNAME:Landskrona vs Helsingborg
X-WR-TIMEZONE:America/New_York
BEGIN:VEVENT
UID:match-5531892@streamradar.soccer
SUMMARY:Landskrona vs Helsingborg
DTSTAMP:20260421T220328Z
DTSTART;TZID=America/New_York:20260909T090000
DTEND;TZID=America/New_York:20260909T110000
LOCATION:Landskrona Idrottsplats
DESCRIPTION:Onde ver Landskrona vs Helsingborg em Suécia - Superettan. Tra
 nsmissão ao vivo e programação de TV.\nhttps://streamradar.soccer/pt/mat
 ch/5531892/landskrona-vs-helsingborg/
URL;VALUE=URI:https://streamradar.soccer/pt/match/5531892/landskrona-vs-hel
 singborg/
STATUS:CONFIRMED
END:VEVENT
END:VCALENDAR
