BEGIN:VCALENDAR
VERSION:2.0
PRODID:-//StreamRadar//Match Calendar//EN
CALSCALE:GREGORIAN
METHOD:PUBLISH
X-WR-CALNAME:Univ. Concepción vs Huachipato
X-WR-TIMEZONE:America/New_York
BEGIN:VEVENT
UID:match-5530009@streamradar.soccer
SUMMARY:Univ. Concepción vs Huachipato
DTSTAMP:20260421T095902Z
DTSTART;TZID=America/New_York:20260913T160000
DTEND;TZID=America/New_York:20260913T180000
LOCATION:Estadio Ester Roa
DESCRIPTION:Onde ver Univ. Concepción vs Huachipato em Chile - Campeonato 
 Chileno. Transmissão ao vivo e programação de TV.\nhttps://streamradar.s
 occer/pt/match/5530009/univ-concepcion-vs-huachipato/
URL;VALUE=URI:https://streamradar.soccer/pt/match/5530009/univ-concepcion-v
 s-huachipato/
STATUS:CONFIRMED
END:VEVENT
END:VCALENDAR
