BEGIN:VCALENDAR
VERSION:2.0
PRODID:-//StreamRadar//Match Calendar//EN
CALSCALE:GREGORIAN
METHOD:PUBLISH
X-WR-CALNAME:Richmond Kickers vs Charlotte Independence
X-WR-TIMEZONE:America/New_York
BEGIN:VEVENT
UID:match-5509606@streamradar.soccer
SUMMARY:Richmond Kickers vs Charlotte Independence
DTSTAMP:20260422T084647Z
DTSTART;TZID=America/New_York:20260919T180000
DTEND;TZID=America/New_York:20260919T200000
LOCATION:City Stadium
DESCRIPTION:Onde ver Richmond Kickers vs Charlotte Independence em Estados 
 Unidos - USL League One. Transmissão ao vivo e programação de TV.\nhttps
 ://streamradar.soccer/pt/match/5509606/richmond-kickers-vs-charlotte-indepe
 ndence/
URL;VALUE=URI:https://streamradar.soccer/pt/match/5509606/richmond-kickers-
 vs-charlotte-independence/
STATUS:CONFIRMED
END:VEVENT
END:VCALENDAR
