BEGIN:VCALENDAR
VERSION:2.0
PRODID:-//StreamRadar//Match Calendar//EN
CALSCALE:GREGORIAN
METHOD:PUBLISH
X-WR-CALNAME:Chattanooga Red Wolves vs Forward Madison
X-WR-TIMEZONE:America/New_York
BEGIN:VEVENT
UID:match-5509597@streamradar.soccer
SUMMARY:Chattanooga Red Wolves vs Forward Madison
DTSTAMP:20260421T104235Z
DTSTART;TZID=America/New_York:20260916T190000
DTEND;TZID=America/New_York:20260916T210000
LOCATION:CHI Memorial Stadium
DESCRIPTION:Onde ver Chattanooga Red Wolves vs Forward Madison em Estados U
 nidos - USL League One. Transmissão ao vivo e programação de TV.\nhttps:
 //streamradar.soccer/pt/match/5509597/chattanooga-red-wolves-vs-forward-mad
 ison/
URL;VALUE=URI:https://streamradar.soccer/pt/match/5509597/chattanooga-red-w
 olves-vs-forward-madison/
STATUS:CONFIRMED
END:VEVENT
END:VCALENDAR
