BEGIN:VCALENDAR
VERSION:2.0
PRODID:-//StreamRadar//Match Calendar//EN
CALSCALE:GREGORIAN
METHOD:PUBLISH
X-WR-CALNAME:Junkeren vs Skeid
X-WR-TIMEZONE:America/New_York
BEGIN:VEVENT
UID:match-5508965@streamradar.soccer
SUMMARY:Junkeren vs Skeid
DTSTAMP:20260421T104111Z
DTSTART;TZID=America/New_York:20260913T114500
DTEND;TZID=America/New_York:20260913T134500
LOCATION:Nordlandshallen
DESCRIPTION:Onde ver Junkeren vs Skeid em Noruega - 2. Divisjon. TransmissÃ
 £o ao vivo e programaÃ§Ã£o de TV.\nhttps://streamradar.soccer/pt/match/5508
 965/junkeren-vs-skeid/
URL;VALUE=URI:https://streamradar.soccer/pt/match/5508965/junkeren-vs-skeid
 /
STATUS:CONFIRMED
END:VEVENT
END:VCALENDAR
