BEGIN:VCALENDAR
VERSION:2.0
PRODID:-//StreamRadar//Match Calendar//EN
CALSCALE:GREGORIAN
METHOD:PUBLISH
X-WR-CALNAME:Notodden vs Arendal
X-WR-TIMEZONE:America/New_York
BEGIN:VEVENT
UID:match-5508792@streamradar.soccer
SUMMARY:Notodden vs Arendal
DTSTAMP:20260424T075220Z
DTSTART;TZID=America/New_York:20260920T100000
DTEND;TZID=America/New_York:20260920T120000
LOCATION:Idrettsparken Notodden
DESCRIPTION:Onde ver Notodden vs Arendal em Noruega - 2. Divisjon. Transmis
 são ao vivo e programação de TV.\nhttps://streamradar.soccer/pt/match/55
 08792/notodden-vs-arendal/
URL;VALUE=URI:https://streamradar.soccer/pt/match/5508792/notodden-vs-arend
 al/
STATUS:CONFIRMED
END:VEVENT
END:VCALENDAR
