BEGIN:VCALENDAR
VERSION:2.0
PRODID:-//StreamRadar//Match Calendar//EN
CALSCALE:GREGORIAN
METHOD:PUBLISH
X-WR-CALNAME:Vidar vs Bjarg
X-WR-TIMEZONE:America/New_York
BEGIN:VEVENT
UID:match-5508787@streamradar.soccer
SUMMARY:Vidar vs Bjarg
DTSTAMP:20260421T120357Z
DTSTART;TZID=America/New_York:20260912T090000
DTEND;TZID=America/New_York:20260912T110000
DESCRIPTION:Onde ver Vidar vs Bjarg em Noruega - 2. Divisjon. Transmissão 
 ao vivo e programação de TV.\nhttps://streamradar.soccer/pt/match/5508787
 /vidar-vs-bjarg/
URL;VALUE=URI:https://streamradar.soccer/pt/match/5508787/vidar-vs-bjarg/
STATUS:CONFIRMED
END:VEVENT
END:VCALENDAR
