BEGIN:VCALENDAR
VERSION:2.0
PRODID:-//StreamRadar//Match Calendar//EN
CALSCALE:GREGORIAN
METHOD:PUBLISH
X-WR-CALNAME:Moss vs Haugesund
X-WR-TIMEZONE:America/New_York
BEGIN:VEVENT
UID:match-5507616@streamradar.soccer
SUMMARY:Moss vs Haugesund
DTSTAMP:20260421T145749Z
DTSTART;TZID=America/New_York:20260913T110000
DTEND;TZID=America/New_York:20260913T130000
DESCRIPTION:Onde ver Moss vs Haugesund em Noruega - OBOS-ligaen. TransmissÃ
 £o ao vivo e programaÃ§Ã£o de TV.\nhttps://streamradar.soccer/pt/match/5507
 616/moss-vs-haugesund/
URL;VALUE=URI:https://streamradar.soccer/pt/match/5507616/moss-vs-haugesund
 /
STATUS:CONFIRMED
END:VEVENT
END:VCALENDAR
