BEGIN:VCALENDAR
VERSION:2.0
PRODID:-//StreamRadar//Match Calendar//EN
CALSCALE:GREGORIAN
METHOD:PUBLISH
X-WR-CALNAME:Strømmen vs Bryne
X-WR-TIMEZONE:America/New_York
BEGIN:VEVENT
UID:match-5507612@streamradar.soccer
SUMMARY:Strømmen vs Bryne
DTSTAMP:20260421T133504Z
DTSTART;TZID=America/New_York:20260906T110000
DTEND;TZID=America/New_York:20260906T130000
DESCRIPTION:Onde ver Strømmen vs Bryne em Noruega - OBOS-ligaen. Transmiss
 ão ao vivo e programação de TV.\nhttps://streamradar.soccer/pt/match/550
 7612/strommen-vs-bryne/
URL;VALUE=URI:https://streamradar.soccer/pt/match/5507612/strommen-vs-bryne
 /
STATUS:CONFIRMED
END:VEVENT
END:VCALENDAR
