BEGIN:VCALENDAR
VERSION:2.0
PRODID:-//StreamRadar//Match Calendar//EN
CALSCALE:GREGORIAN
METHOD:PUBLISH
X-WR-CALNAME:Longford Town vs Kerry
X-WR-TIMEZONE:America/New_York
BEGIN:VEVENT
UID:match-5507391@streamradar.soccer
SUMMARY:Longford Town vs Kerry
DTSTAMP:20260425T115835Z
DTSTART;TZID=America/New_York:20260905T143000
DTEND;TZID=America/New_York:20260905T163000
LOCATION:Bishopsgate
DESCRIPTION:Onde ver Longford Town vs Kerry em First Division. Transmissão
  ao vivo e programação de TV.\nhttps://streamradar.soccer/pt/match/550739
 1/longford-town-vs-kerry/
URL;VALUE=URI:https://streamradar.soccer/pt/match/5507391/longford-town-vs-
 kerry/
STATUS:CONFIRMED
END:VEVENT
END:VCALENDAR
