BEGIN:VCALENDAR
VERSION:2.0
PRODID:-//StreamRadar//Match Calendar//EN
CALSCALE:GREGORIAN
METHOD:PUBLISH
X-WR-CALNAME:Treaty United vs Wexford
X-WR-TIMEZONE:America/New_York
BEGIN:VEVENT
UID:match-5507390@streamradar.soccer
SUMMARY:Treaty United vs Wexford
DTSTAMP:20260425T115957Z
DTSTART;TZID=America/New_York:20260904T144500
DTEND;TZID=America/New_York:20260904T164500
LOCATION:Markets Field
DESCRIPTION:Onde ver Treaty United vs Wexford em First Division. TransmissÃ
 £o ao vivo e programaÃ§Ã£o de TV.\nhttps://streamradar.soccer/pt/match/5507
 390/treaty-united-vs-wexford/
URL;VALUE=URI:https://streamradar.soccer/pt/match/5507390/treaty-united-vs-
 wexford/
STATUS:CONFIRMED
END:VEVENT
END:VCALENDAR
