BEGIN:VCALENDAR
VERSION:2.0
PRODID:-//StreamRadar//Match Calendar//EN
CALSCALE:GREGORIAN
METHOD:PUBLISH
X-WR-CALNAME:Aalesund vs Start
X-WR-TIMEZONE:America/New_York
BEGIN:VEVENT
UID:match-5506719@streamradar.soccer
SUMMARY:Aalesund vs Start
DTSTAMP:20260421T095655Z
DTSTART;TZID=America/New_York:20260906T110000
DTEND;TZID=America/New_York:20260906T130000
LOCATION:Color Line Stadion
DESCRIPTION:Onde ver Aalesund vs Start em Noruega - Eliteserien. TransmissÃ
 £o ao vivo e programaÃ§Ã£o de TV.\nhttps://streamradar.soccer/pt/match/5506
 719/aalesund-vs-start/
URL;VALUE=URI:https://streamradar.soccer/pt/match/5506719/aalesund-vs-start
 /
STATUS:CONFIRMED
END:VEVENT
END:VCALENDAR
