BEGIN:VCALENDAR
VERSION:2.0
PRODID:-//StreamRadar//Match Calendar//EN
CALSCALE:GREGORIAN
METHOD:PUBLISH
X-WR-CALNAME:Shelbourne vs Derry City
X-WR-TIMEZONE:America/New_York
BEGIN:VEVENT
UID:match-5506288@streamradar.soccer
SUMMARY:Shelbourne vs Derry City
DTSTAMP:20260422T121559Z
DTSTART;TZID=America/New_York:20260911T144500
DTEND;TZID=America/New_York:20260911T164500
LOCATION:Tolka Park
DESCRIPTION:Onde ver Shelbourne vs Derry City em Premier Division. Transmis
 são ao vivo e programação de TV.\nhttps://streamradar.soccer/pt/match/55
 06288/shelbourne-vs-derry-city/
URL;VALUE=URI:https://streamradar.soccer/pt/match/5506288/shelbourne-vs-der
 ry-city/
STATUS:CONFIRMED
END:VEVENT
END:VCALENDAR
