BEGIN:VCALENDAR
VERSION:2.0
PRODID:-//StreamRadar//Match Calendar//EN
CALSCALE:GREGORIAN
METHOD:PUBLISH
X-WR-CALNAME:New York City vs New England
X-WR-TIMEZONE:America/New_York
BEGIN:VEVENT
UID:match-5505149@streamradar.soccer
SUMMARY:New York City vs New England
DTSTAMP:20260425T132814Z
DTSTART;TZID=America/New_York:20260909T193000
DTEND;TZID=America/New_York:20260909T213000
LOCATION:Yankee Stadium
DESCRIPTION:Onde ver New York City vs New England em Major League Soccer. T
 ransmissão ao vivo e programação de TV.\nhttps://streamradar.soccer/pt/m
 atch/5505149/new-york-city-vs-new-england/
URL;VALUE=URI:https://streamradar.soccer/pt/match/5505149/new-york-city-vs-
 new-england/
STATUS:CONFIRMED
END:VEVENT
END:VCALENDAR
