BEGIN:VCALENDAR
VERSION:2.0
PRODID:-//StreamRadar//Match Calendar//EN
CALSCALE:GREGORIAN
METHOD:PUBLISH
X-WR-CALNAME:LA Galaxy vs New England
X-WR-TIMEZONE:America/New_York
BEGIN:VEVENT
UID:match-5505142@streamradar.soccer
SUMMARY:LA Galaxy vs New England
DTSTAMP:20260425T115900Z
DTSTART;TZID=America/New_York:20260905T213000
DTEND;TZID=America/New_York:20260905T233000
LOCATION:Dignity Health Sports Park
DESCRIPTION:Onde ver LA Galaxy vs New England em Major League Soccer. Trans
 missão ao vivo e programação de TV.\nhttps://streamradar.soccer/pt/match
 /5505142/la-galaxy-vs-new-england/
URL;VALUE=URI:https://streamradar.soccer/pt/match/5505142/la-galaxy-vs-new-
 england/
STATUS:CONFIRMED
END:VEVENT
END:VCALENDAR
