BEGIN:VCALENDAR
VERSION:2.0
PRODID:-//StreamRadar//Match Calendar//EN
CALSCALE:GREGORIAN
METHOD:PUBLISH
X-WR-CALNAME:Vitória vs Grêmio
X-WR-TIMEZONE:America/New_York
BEGIN:VEVENT
UID:match-5504550@streamradar.soccer
SUMMARY:Vitória vs Grêmio
DTSTAMP:20260421T080026Z
DTSTART;TZID=America/New_York:20260906T160000
DTEND;TZID=America/New_York:20260906T180000
LOCATION:Barradao
DESCRIPTION:Onde ver Vitória vs Grêmio em Brasil - Brasileirão. Transmis
 são ao vivo e programação de TV.\nhttps://streamradar.soccer/pt/match/55
 04550/vitoria-vs-gremio/
URL;VALUE=URI:https://streamradar.soccer/pt/match/5504550/vitoria-vs-gremio
 /
STATUS:CONFIRMED
END:VEVENT
END:VCALENDAR
