BEGIN:VCALENDAR
VERSION:2.0
PRODID:-//StreamRadar//Match Calendar//EN
CALSCALE:GREGORIAN
METHOD:PUBLISH
X-WR-CALNAME:Cruzeiro vs Athletico-PR
X-WR-TIMEZONE:America/New_York
BEGIN:VEVENT
UID:match-5504545@streamradar.soccer
SUMMARY:Cruzeiro vs Athletico-PR
DTSTAMP:20260421T092054Z
DTSTART;TZID=America/New_York:20260906T160000
DTEND;TZID=America/New_York:20260906T180000
DESCRIPTION:Onde ver Cruzeiro vs Athletico-PR em Brasil - Brasileirão. Tra
 nsmissão ao vivo e programação de TV.\nhttps://streamradar.soccer/pt/mat
 ch/5504545/cruzeiro-vs-athletico-pr/
URL;VALUE=URI:https://streamradar.soccer/pt/match/5504545/cruzeiro-vs-athle
 tico-pr/
STATUS:CONFIRMED
END:VEVENT
END:VCALENDAR
