BEGIN:VCALENDAR
VERSION:2.0
PRODID:-//StreamRadar//Match Calendar//EN
CALSCALE:GREGORIAN
METHOD:PUBLISH
X-WR-CALNAME:Argentinos Juniors vs Gimnasia La Plata
X-WR-TIMEZONE:America/New_York
BEGIN:VEVENT
UID:match-5504171@streamradar.soccer
SUMMARY:Argentinos Juniors vs Gimnasia La Plata
DTSTAMP:20260421T063249Z
DTSTART;TZID=America/New_York:20260913T160000
DTEND;TZID=America/New_York:20260913T180000
LOCATION:Estadio Diego Armando Maradona
DESCRIPTION:Onde ver Argentinos Juniors vs Gimnasia La Plata em Argentina -
  Campeonato Argentino. Transmissão ao vivo e programação de TV.\nhttps:/
 /streamradar.soccer/pt/match/5504171/argentinos-juniors-vs-gimnasia-la-plat
 a/
URL;VALUE=URI:https://streamradar.soccer/pt/match/5504171/argentinos-junior
 s-vs-gimnasia-la-plata/
STATUS:CONFIRMED
END:VEVENT
END:VCALENDAR
