BEGIN:VCALENDAR
VERSION:2.0
PRODID:-//StreamRadar//Match Calendar//EN
CALSCALE:GREGORIAN
METHOD:PUBLISH
X-WR-CALNAME:Marsa vs CS Sfaxien
X-WR-TIMEZONE:America/New_York
BEGIN:VEVENT
UID:match-5620956@streamradar.soccer
SUMMARY:Marsa vs CS Sfaxien
DTSTAMP:20260425T115842Z
DTSTART;TZID=America/New_York:20260508T093000
DTEND;TZID=America/New_York:20260508T113000
DESCRIPTION:Gdzie oglądać Marsa vs CS Sfaxien w Tunezja - Ligue Professio
 nnelle 1. Transmisja na żywo i program TV.\nhttps://streamradar.soccer/pl/
 match/5620956/marsa-vs-cs-sfaxien/
URL;VALUE=URI:https://streamradar.soccer/pl/match/5620956/marsa-vs-cs-sfaxi
 en/
STATUS:CONFIRMED
END:VEVENT
END:VCALENDAR
