BEGIN:VCALENDAR
VERSION:2.0
PRODID:-//StreamRadar//Match Calendar//EN
CALSCALE:GREGORIAN
METHOD:PUBLISH
X-WR-CALNAME:Unión La Calera vs Palestino
X-WR-TIMEZONE:America/New_York
BEGIN:VEVENT
UID:match-5620951@streamradar.soccer
SUMMARY:Unión La Calera vs Palestino
DTSTAMP:20260425T120008Z
DTSTART;TZID=America/New_York:20260523T200000
DTEND;TZID=America/New_York:20260523T220000
DESCRIPTION:Gdzie oglądać Unión La Calera vs Palestino w Chile - Primera
  División Chile. Transmisja na żywo i program TV.\nhttps://streamradar.so
 ccer/pl/match/5620951/union-la-calera-vs-palestino/
URL;VALUE=URI:https://streamradar.soccer/pl/match/5620951/union-la-calera-v
 s-palestino/
STATUS:CONFIRMED
END:VEVENT
END:VCALENDAR
