BEGIN:VCALENDAR
VERSION:2.0
PRODID:-//StreamRadar//Match Calendar//EN
CALSCALE:GREGORIAN
METHOD:PUBLISH
X-WR-CALNAME:Las Vegas Lights vs Colorado Springs
X-WR-TIMEZONE:America/New_York
BEGIN:VEVENT
UID:match-5620949@streamradar.soccer
SUMMARY:Las Vegas Lights vs Colorado Springs
DTSTAMP:20260425T120008Z
DTSTART;TZID=America/New_York:20260523T223000
DTEND;TZID=America/New_York:20260524T003000
LOCATION:Cashman Field
DESCRIPTION:Gdzie oglądać Las Vegas Lights vs Colorado Springs w USL Cham
 pionship. Transmisja na żywo i program TV.\nhttps://streamradar.soccer/pl/
 match/5620949/las-vegas-lights-vs-colorado-springs/
URL;VALUE=URI:https://streamradar.soccer/pl/match/5620949/las-vegas-lights-
 vs-colorado-springs/
STATUS:CONFIRMED
END:VEVENT
END:VCALENDAR
