BEGIN:VCALENDAR
VERSION:2.0
PRODID:-//StreamRadar//Match Calendar//EN
CALSCALE:GREGORIAN
METHOD:PUBLISH
X-WR-CALNAME:Sahel vs AS-FAN
X-WR-TIMEZONE:America/New_York
BEGIN:VEVENT
UID:match-5620164@streamradar.soccer
SUMMARY:Sahel vs AS-FAN
DTSTAMP:20260424T152656Z
DTSTART;TZID=America/New_York:20260426T113000
DTEND;TZID=America/New_York:20260426T133000
LOCATION:Stade Général Seyni Kountché (Niamey)
DESCRIPTION:Gdzie oglądać Sahel vs AS-FAN w Niger - Super Ligue. Transmis
 ja na żywo i program TV.\nhttps://streamradar.soccer/pl/match/5620164/sahe
 l-vs-as-fan/
URL;VALUE=URI:https://streamradar.soccer/pl/match/5620164/sahel-vs-as-fan/
STATUS:CONFIRMED
END:VEVENT
END:VCALENDAR
