BEGIN:VCALENDAR
VERSION:2.0
PRODID:-//StreamRadar//Match Calendar//EN
CALSCALE:GREGORIAN
METHOD:PUBLISH
X-WR-CALNAME:VPS II vs SJK
X-WR-TIMEZONE:America/New_York
BEGIN:VEVENT
UID:match-5619556@streamradar.soccer
SUMMARY:VPS II vs SJK
DTSTAMP:20260423T140420Z
DTSTART;TZID=America/New_York:20260429T090000
DTEND;TZID=America/New_York:20260429T110000
LOCATION:Lemonsoft Stadion
DESCRIPTION:Gdzie oglądać VPS II vs SJK w Finlandia - Suomen Cup. Transmi
 sja na żywo i program TV.\nhttps://streamradar.soccer/pl/match/5619556/vps
 -ii-vs-sjk/
URL;VALUE=URI:https://streamradar.soccer/pl/match/5619556/vps-ii-vs-sjk/
STATUS:CONFIRMED
END:VEVENT
END:VCALENDAR
