BEGIN:VCALENDAR
VERSION:2.0
PRODID:-//StreamRadar//Match Calendar//EN
CALSCALE:GREGORIAN
METHOD:PUBLISH
X-WR-CALNAME:Virkiä vs JS Hercules
X-WR-TIMEZONE:America/New_York
BEGIN:VEVENT
UID:match-5619547@streamradar.soccer
SUMMARY:Virkiä vs JS Hercules
DTSTAMP:20260423T140715Z
DTSTART;TZID=America/New_York:20260429T090000
DTEND;TZID=America/New_York:20260429T110000
LOCATION:Lapuan keskuskenttä (Lapua)
DESCRIPTION:Gdzie oglądać Virkiä vs JS Hercules w Finlandia - Suomen Cup
 . Transmisja na żywo i program TV.\nhttps://streamradar.soccer/pl/match/56
 19547/virkia-vs-js-hercules/
URL;VALUE=URI:https://streamradar.soccer/pl/match/5619547/virkia-vs-js-herc
 ules/
STATUS:CONFIRMED
END:VEVENT
END:VCALENDAR
