BEGIN:VCALENDAR
VERSION:2.0
PRODID:-//StreamRadar//Match Calendar//EN
CALSCALE:GREGORIAN
METHOD:PUBLISH
X-WR-CALNAME:Ennepetal vs Eintracht Rheine
X-WR-TIMEZONE:America/New_York
BEGIN:VEVENT
UID:match-5618850@streamradar.soccer
SUMMARY:Ennepetal vs Eintracht Rheine
DTSTAMP:20260422T113703Z
DTSTART;TZID=America/New_York:20260520T133000
DTEND;TZID=America/New_York:20260520T153000
DESCRIPTION:Gdzie oglądać Ennepetal vs Eintracht Rheine w Niemcy - Oberli
 ga. Transmisja na żywo i program TV.\nhttps://streamradar.soccer/pl/match/
 5618850/ennepetal-vs-eintracht-rheine/
URL;VALUE=URI:https://streamradar.soccer/pl/match/5618850/ennepetal-vs-eint
 racht-rheine/
STATUS:CONFIRMED
END:VEVENT
END:VCALENDAR
