BEGIN:VCALENDAR
VERSION:2.0
PRODID:-//StreamRadar//Match Calendar//EN
CALSCALE:GREGORIAN
METHOD:PUBLISH
X-WR-CALNAME:Maccabi Herzliya vs Kiryat Yam SC
X-WR-TIMEZONE:America/New_York
BEGIN:VEVENT
UID:match-5618806@streamradar.soccer
SUMMARY:Maccabi Herzliya vs Kiryat Yam SC
DTSTAMP:20260422T101126Z
DTSTART;TZID=America/New_York:20260427T120000
DTEND;TZID=America/New_York:20260427T140000
DESCRIPTION:Gdzie oglądać Maccabi Herzliya vs Kiryat Yam SC w Izrael - Li
 ga Leumit. Transmisja na żywo i program TV.\nhttps://streamradar.soccer/pl
 /match/5618806/maccabi-herzliya-vs-kiryat-yam-sc/
URL;VALUE=URI:https://streamradar.soccer/pl/match/5618806/maccabi-herzliya-
 vs-kiryat-yam-sc/
STATUS:CONFIRMED
END:VEVENT
END:VCALENDAR
