BEGIN:VCALENDAR
VERSION:2.0
PRODID:-//StreamRadar//Match Calendar//EN
CALSCALE:GREGORIAN
METHOD:PUBLISH
X-WR-CALNAME:Annagh United vs Crusaders
X-WR-TIMEZONE:America/New_York
BEGIN:VEVENT
UID:match-5618729@streamradar.soccer
SUMMARY:Annagh United vs Crusaders
DTSTAMP:20260422T124056Z
DTSTART;TZID=America/New_York:20260428T144500
DTEND;TZID=America/New_York:20260428T164500
LOCATION:BMG Arena
DESCRIPTION:Gdzie oglądać Annagh United vs Crusaders w Irlandia Północn
 a - NIFL Premiership. Transmisja na żywo i program TV.\nhttps://streamrada
 r.soccer/pl/match/5618729/annagh-united-vs-crusaders/
URL;VALUE=URI:https://streamradar.soccer/pl/match/5618729/annagh-united-vs-
 crusaders/
STATUS:CONFIRMED
END:VEVENT
END:VCALENDAR
