BEGIN:VCALENDAR
VERSION:2.0
PRODID:-//StreamRadar//Match Calendar//EN
CALSCALE:GREGORIAN
METHOD:PUBLISH
X-WR-CALNAME:Standard Liège vs Sporting Charleroi
X-WR-TIMEZONE:America/New_York
BEGIN:VEVENT
UID:match-5618061@streamradar.soccer
SUMMARY:Standard Liège vs Sporting Charleroi
DTSTAMP:20260421T093038Z
DTSTART;TZID=America/New_York:20260523T144500
DTEND;TZID=America/New_York:20260523T164500
LOCATION:Maurice Dufrasnestadion
DESCRIPTION:Gdzie oglądać Standard Liège vs Sporting Charleroi w Belgia 
 - Jupiler Pro League. Transmisja na żywo i program TV.\nhttps://streamrada
 r.soccer/pl/match/5618061/standard-liege-vs-sporting-charleroi/
URL;VALUE=URI:https://streamradar.soccer/pl/match/5618061/standard-liege-vs
 -sporting-charleroi/
STATUS:CONFIRMED
END:VEVENT
END:VCALENDAR
