BEGIN:VCALENDAR
VERSION:2.0
PRODID:-//StreamRadar//Match Calendar//EN
CALSCALE:GREGORIAN
METHOD:PUBLISH
X-WR-CALNAME:Universidad Católica vs Barcelona
X-WR-TIMEZONE:America/New_York
BEGIN:VEVENT
UID:match-5618011@streamradar.soccer
SUMMARY:Universidad Católica vs Barcelona
DTSTAMP:20260421T120526Z
DTSTART;TZID=America/New_York:20260521T203000
DTEND;TZID=America/New_York:20260521T223000
LOCATION:Claro Arena
DESCRIPTION:Gdzie oglądać Universidad Católica vs Barcelona w Copa Liber
 tadores. Transmisja na żywo i program TV.\nhttps://streamradar.soccer/pl/m
 atch/5618011/universidad-catolica-vs-barcelona/
URL;VALUE=URI:https://streamradar.soccer/pl/match/5618011/universidad-catol
 ica-vs-barcelona/
STATUS:CONFIRMED
END:VEVENT
END:VCALENDAR
