BEGIN:VCALENDAR
VERSION:2.0
PRODID:-//StreamRadar//Match Calendar//EN
CALSCALE:GREGORIAN
METHOD:PUBLISH
X-WR-CALNAME:Colombia vs Costa Rica
X-WR-TIMEZONE:America/New_York
BEGIN:VEVENT
UID:match-5617961@streamradar.soccer
SUMMARY:Colombia vs Costa Rica
DTSTAMP:20260421T144500Z
DTSTART;TZID=America/New_York:20260529T160000
DTEND;TZID=America/New_York:20260529T180000
DESCRIPTION:Gdzie oglądać Colombia vs Costa Rica w Towarzyski mecz. Trans
 misja na żywo i program TV.\nhttps://streamradar.soccer/pl/match/5617961/c
 olombia-vs-costa-rica/
URL;VALUE=URI:https://streamradar.soccer/pl/match/5617961/colombia-vs-costa
 -rica/
STATUS:CONFIRMED
END:VEVENT
END:VCALENDAR
