BEGIN:VCALENDAR
VERSION:2.0
PRODID:-//StreamRadar//Match Calendar//EN
CALSCALE:GREGORIAN
METHOD:PUBLISH
X-WR-CALNAME:Riopretano vs Jose Bonifacio EC
X-WR-TIMEZONE:America/New_York
BEGIN:VEVENT
UID:match-5617588@streamradar.soccer
SUMMARY:Riopretano vs Jose Bonifacio EC
DTSTAMP:20260420T165257Z
DTSTART;TZID=America/New_York:20260503T090000
DTEND;TZID=America/New_York:20260503T110000
DESCRIPTION:Gdzie oglądać Riopretano vs Jose Bonifacio EC w Brazylia - Ca
 mpeonato Paulista Serie B. Transmisja na żywo i program TV.\nhttps://strea
 mradar.soccer/pl/match/5617588/riopretano-vs-jose-bonifacio-ec/
URL;VALUE=URI:https://streamradar.soccer/pl/match/5617588/riopretano-vs-jos
 e-bonifacio-ec/
STATUS:CONFIRMED
END:VEVENT
END:VCALENDAR
