BEGIN:VCALENDAR
VERSION:2.0
PRODID:-//StreamRadar//Match Calendar//EN
CALSCALE:GREGORIAN
METHOD:PUBLISH
X-WR-CALNAME:Jacuipense vs CSE
X-WR-TIMEZONE:America/New_York
BEGIN:VEVENT
UID:match-5617479@streamradar.soccer
SUMMARY:Jacuipense vs CSE
DTSTAMP:20260421T062041Z
DTSTART;TZID=America/New_York:20260509T160000
DTEND;TZID=America/New_York:20260509T180000
DESCRIPTION:Gdzie oglądać Jacuipense vs CSE w Brazylia - Serie D w Brazyl
 ii. Transmisja na żywo i program TV.\nhttps://streamradar.soccer/pl/match/
 5617479/jacuipense-vs-cse/
URL;VALUE=URI:https://streamradar.soccer/pl/match/5617479/jacuipense-vs-cse
 /
STATUS:CONFIRMED
END:VEVENT
END:VCALENDAR
