BEGIN:VCALENDAR
VERSION:2.0
PRODID:-//StreamRadar//Match Calendar//EN
CALSCALE:GREGORIAN
METHOD:PUBLISH
X-WR-CALNAME:Atlético CP vs 1º Dezembro
X-WR-TIMEZONE:America/New_York
BEGIN:VEVENT
UID:match-5617429@streamradar.soccer
SUMMARY:Atlético CP vs 1º Dezembro
DTSTAMP:20260421T055515Z
DTSTART;TZID=America/New_York:20260425T100000
DTEND;TZID=America/New_York:20260425T120000
LOCATION:Estádio Da Tapadinha (Lisboa)
DESCRIPTION:Gdzie oglądać Atlético CP vs 1º Dezembro w Portugalia - Lig
 a 3. Transmisja na żywo i program TV.\nhttps://streamradar.soccer/pl/match
 /5617429/atletico-cp-vs-1-dezembro/
URL;VALUE=URI:https://streamradar.soccer/pl/match/5617429/atletico-cp-vs-1-
 dezembro/
STATUS:CONFIRMED
END:VEVENT
END:VCALENDAR
