BEGIN:VCALENDAR
VERSION:2.0
PRODID:-//StreamRadar//Match Calendar//EN
CALSCALE:GREGORIAN
METHOD:PUBLISH
X-WR-CALNAME:Sporting Charleroi vs OH Leuven
X-WR-TIMEZONE:America/New_York
BEGIN:VEVENT
UID:match-5617392@streamradar.soccer
SUMMARY:Sporting Charleroi vs OH Leuven
DTSTAMP:20260420T120744Z
DTSTART;TZID=America/New_York:20260519T143000
DTEND;TZID=America/New_York:20260519T163000
LOCATION:Stade du Pays de Charleroi
DESCRIPTION:Gdzie oglądać Sporting Charleroi vs OH Leuven w Belgia - Jupi
 ler Pro League. Transmisja na żywo i program TV.\nhttps://streamradar.socc
 er/pl/match/5617392/sporting-charleroi-vs-oh-leuven/
URL;VALUE=URI:https://streamradar.soccer/pl/match/5617392/sporting-charlero
 i-vs-oh-leuven/
STATUS:CONFIRMED
END:VEVENT
END:VCALENDAR
