BEGIN:VCALENDAR
VERSION:2.0
PRODID:-//StreamRadar//Match Calendar//EN
CALSCALE:GREGORIAN
METHOD:PUBLISH
X-WR-CALNAME:Mamelodi Sundowns vs FAR Rabat
X-WR-TIMEZONE:America/New_York
BEGIN:VEVENT
UID:match-5617390@streamradar.soccer
SUMMARY:Mamelodi Sundowns vs FAR Rabat
DTSTAMP:20260421T050502Z
DTSTART;TZID=America/New_York:20260517T120000
DTEND;TZID=America/New_York:20260517T140000
LOCATION:Lucas Masterpieces Moripe Stadium
DESCRIPTION:Gdzie oglądać Mamelodi Sundowns vs FAR Rabat w Liga Mistrzów
  CAF. Transmisja na żywo i program TV.\nhttps://streamradar.soccer/pl/matc
 h/5617390/mamelodi-sundowns-vs-far-rabat/
URL;VALUE=URI:https://streamradar.soccer/pl/match/5617390/mamelodi-sundowns
 -vs-far-rabat/
STATUS:CONFIRMED
END:VEVENT
END:VCALENDAR
