BEGIN:VCALENDAR
VERSION:2.0
PRODID:-//StreamRadar//Match Calendar//EN
CALSCALE:GREGORIAN
METHOD:PUBLISH
X-WR-CALNAME:HuracÃ¡n vs Cerrito
X-WR-TIMEZONE:America/New_York
BEGIN:VEVENT
UID:match-5617052@streamradar.soccer
SUMMARY:HuracÃ¡n vs Cerrito
DTSTAMP:20260419T121910Z
DTSTART;TZID=America/New_York:20260425T140000
DTEND;TZID=America/New_York:20260425T160000
LOCATION:Estadio TomÃ¡s Adolfo DucÃ³ (Capital Federal\, Ciudad de Buenos Ai
 res)
DESCRIPTION:Gdzie oglÄ…daÄ‡ HuracÃ¡n vs Cerrito w Urugwaj - Segunda DivisiÃ
 ³n Urugwajska. Transmisja na Å¼ywo i program TV.\nhttps://streamradar.socce
 r/pl/match/5617052/huracan-vs-cerrito/
URL;VALUE=URI:https://streamradar.soccer/pl/match/5617052/huracan-vs-cerrit
 o/
STATUS:CONFIRMED
END:VEVENT
END:VCALENDAR
