BEGIN:VCALENDAR
VERSION:2.0
PRODID:-//StreamRadar//Match Calendar//EN
CALSCALE:GREGORIAN
METHOD:PUBLISH
X-WR-CALNAME:Rentistas vs Miramar Misiones
X-WR-TIMEZONE:America/New_York
BEGIN:VEVENT
UID:match-5617051@streamradar.soccer
SUMMARY:Rentistas vs Miramar Misiones
DTSTAMP:20260421T071545Z
DTSTART;TZID=America/New_York:20260425T100000
DTEND;TZID=America/New_York:20260425T120000
LOCATION:Complejo Rentistas
DESCRIPTION:Gdzie oglądać Rentistas vs Miramar Misiones w Urugwaj - Segun
 da División Urugwajska. Transmisja na żywo i program TV.\nhttps://streamr
 adar.soccer/pl/match/5617051/rentistas-vs-miramar-misiones/
URL;VALUE=URI:https://streamradar.soccer/pl/match/5617051/rentistas-vs-mira
 mar-misiones/
STATUS:CONFIRMED
END:VEVENT
END:VCALENDAR
